BEGIN:VCALENDAR
VERSION:2.0
PRODID:-//RIGHTHERE//CALENDARIZE IT V3.2//EN
BEGIN:VEVENT
UID:6329-events@hetleker.nl
DTSTART:20260227T183000Z
DTEND:20260227T203000Z
DTSTAMP:20260225T113652Z
SUMMARY:Linda Fransen
URL:https://hetleker.nl/events/linda-fransen-3/
END:VEVENT
END:VCALENDAR