BEGIN:VCALENDAR
VERSION:2.0
PRODID:-//RIGHTHERE//CALENDARIZE IT V3.2//EN
BEGIN:VEVENT
UID:5666-events@hetleker.nl
DTSTART:20251107T190000Z
DTEND:20251107T223000Z
DTSTAMP:20250124T175951Z
SUMMARY:Dorpsvereniging
RDATE;VALUE=PERIOD:20260508T190000/20260508T223000,20261105T193000/20261105
 T223000
URL:https://hetleker.nl/events/dorpsvereniging-29/
END:VEVENT
END:VCALENDAR