BEGIN:VCALENDAR
VERSION:2.0
PRODID:-//RIGHTHERE//CALENDARIZE IT V3.2//EN
BEGIN:VEVENT
UID:5302-events@hetleker.nl
DTSTART:20241009T200000Z
DTEND:20241009T220000Z
DTSTAMP:20241004T074903Z
SUMMARY:Raam & Maas
URL:https://hetleker.nl/events/raam-maas/
END:VEVENT
END:VCALENDAR