BEGIN:VCALENDAR
VERSION:2.0
PRODID:-//RIGHTHERE//CALENDARIZE IT V3.2//EN
BEGIN:VEVENT
UID:4294-events@hetleker.nl
DTSTART:20231206T130000Z
DTEND:20231206T170000Z
DTSTAMP:20231120T093937Z
SUMMARY:Senioren Ledeacker Kienen
RRULE:FREQ=MONTHLY;INTERVAL=1;BYDAY=1WE
EXDATE:20240605T130000Z,20240703T130000Z,20240807T130000Z,20240904T130000Z,
 20250305T130000Z
RDATE;VALUE=PERIOD:20250312T130000/20250312T170000
URL:https://hetleker.nl/events/kbo-kienen-2/
END:VEVENT
END:VCALENDAR