BEGIN:VCALENDAR
VERSION:2.0
PRODID:-//RIGHTHERE//CALENDARIZE IT V3.2//EN
BEGIN:VEVENT
UID:3948-events@hetleker.nl
DTSTART:20231017T200000Z
DTEND:20231017T230000Z
DTSTAMP:20231006T111022Z
SUMMARY:C.V. de Hanen
RDATE;VALUE=PERIOD:20231031T193000/20231031T230000,20231123T193000/20231123
 T210000,20240104T193000/20240104T213000
URL:https://hetleker.nl/events/c-v-de-hanen-4/
END:VEVENT
END:VCALENDAR