BEGIN:VCALENDAR
VERSION:2.0
PRODID:-//RIGHTHERE//CALENDARIZE IT V3.2//EN
BEGIN:VEVENT
UID:3391-events@hetleker.nl
DTSTART:20230108T120000Z
DTEND:20230108T140000Z
DTSTAMP:20221127T073532Z
SUMMARY:Kbo gezamelijk eten
RDATE;VALUE=PERIOD:20230212T120000/20230212T140000,20230312T120000/20230312
 T140000,20230514T120000/20230514T140000,20230611T120000/20230611T140000,20
  230709T120000/20230709T140000,20230813T120000/20230813T140000,20230910T12
   0000/20230910T140000,20231008T120000/20231008T140000,20231112T120000/202
    31112T140000,20231210T120000/20231210T140000
URL:https://hetleker.nl/events/kbo-gezamelijk-eten-2/
END:VEVENT
END:VCALENDAR