BEGIN:VCALENDAR
VERSION:2.0
PRODID:-//RIGHTHERE//CALENDARIZE IT V3.2//EN
BEGIN:VEVENT
UID:3177-events@hetleker.nl
DTSTART:20221128T190000Z
DTEND:20221128T220000Z
DTSTAMP:20221011T124215Z
SUMMARY:AED/Reanimatie cursus
RDATE;VALUE=PERIOD:20221129T190000/20221129T220000,20230403T190000/20230403
 T220000,20230404T190000/20230404T220000
URL:https://hetleker.nl/events/aed-reanimatie-cursus/
END:VEVENT
END:VCALENDAR