BEGIN:VCALENDAR
VERSION:2.0
PRODID:-//RIGHTHERE//CALENDARIZE IT V3.2//EN
BEGIN:VEVENT
UID:2531-events@hetleker.nl
DTSTART:20220511T200000Z
DTEND:20220511T223000Z
DTSTAMP:20220406T194520Z
SUMMARY:Kermis commissie
URL:https://hetleker.nl/events/kermis-commissie/
END:VEVENT
END:VCALENDAR