BEGIN:VCALENDAR
VERSION:2.0
PRODID:-//RIGHTHERE//CALENDARIZE IT V3.2//EN
BEGIN:VEVENT
UID:1925-events@hetleker.nl
DTSTART:20210804T193000Z
DTEND:20210804T230000Z
DTSTAMP:20210726T162533Z
SUMMARY:Dorpsvereniging Sint Anthonis
URL:https://hetleker.nl/events/dorpsvereniging-sint-anthonis-2/
END:VEVENT
END:VCALENDAR