BEGIN:VCALENDAR
VERSION:2.0
PRODID:-//RIGHTHERE//CALENDARIZE IT V3.2//EN
BEGIN:VEVENT
UID:1602-events@hetleker.nl
DTSTART:20210517T200000Z
DTEND:20210517T230000Z
DTSTAMP:20201231T091107Z
SUMMARY:Vergadering PGSA
URL:https://hetleker.nl/events/vergadering-pgsa-4/
END:VEVENT
END:VCALENDAR