BEGIN:VCALENDAR
VERSION:2.0
PRODID:-//RIGHTHERE//CALENDARIZE IT V3.2//EN
BEGIN:VEVENT
UID:1373-events@hetleker.nl
DTSTART:20230424T190000Z
DTEND:20230424T203000Z
DTSTAMP:20200924T074120Z
SUMMARY:Senioren Ledeacker vergadering
RRULE:FREQ=MONTHLY;INTERVAL=1;BYDAY=3MO
EXDATE:20201026T190000Z,20221017T193000Z,20230116T193000Z,20230220T193000Z,
 20230320T193000Z,20230417T193000Z,20260216T190000Z,20260420T190000Z,202605
  18T190000Z,20260921T190000Z
RDATE;VALUE=PERIOD:20260209T190000/20260209T203000,20260914T190000/20260914
 T203000
URL:https://hetleker.nl/events/kbo-vergadering/
END:VEVENT
END:VCALENDAR